BEGIN:VCALENDAR
VERSION:2.0
PRODID:-//Judo Perú - ECPv6.15.20//NONSGML v1.0//EN
CALSCALE:GREGORIAN
METHOD:PUBLISH
X-ORIGINAL-URL:https://judoperu.org
X-WR-CALDESC:Eventos para Judo Perú
REFRESH-INTERVAL;VALUE=DURATION:PT1H
X-Robots-Tag:noindex
X-PUBLISHED-TTL:PT1H
BEGIN:VTIMEZONE
TZID:America/Lima
BEGIN:STANDARD
TZOFFSETFROM:-0500
TZOFFSETTO:-0500
TZNAME:-05
DTSTART:20230101T000000
END:STANDARD
END:VTIMEZONE
BEGIN:VEVENT
DTSTART;TZID=America/Lima:20240719T100000
DTEND;TZID=America/Lima:20240722T170000
DTSTAMP:20260421T052332
CREATED:20240630T020239Z
LAST-MODIFIED:20240630T020244Z
UID:5806-1721383200-1721667600@judoperu.org
SUMMARY:Super Copa Toshihiko Koga 2024
DESCRIPTION:Del 19 al 22 de julio se desarrollará la Super Copa Toshihiko Koga «Carlos Zegarra Presser» 2024 con las categorías Kyus A\, Sub13\, Sub15 y Sub18 (cadete)\, además del MiniPrix. Además\, se realizará un Master Class a cargo de la Comisión de Atletas de la FDPJ el día 22 de julio. \n\n\n\n\nVie 19 JUL | Miniprix\n\n\n\nVie 19 JUL | Kyus A\n\n\n\nSab 20 JUL | Super Copa Sub13 \n\n\n\nSab 20 JUL | Super Copa Sub15 \n\n\n\nDom 21 JUL | Super Copa Cadete\n\n\n\nLunes 22 JUL | Master Class Cadetes\, Junior y Senior\n\n\n\n\nEl evento se realizará en el Coliseo Cerrado «Juan Pinasco Villanueva» en jirón Putumayo 726\, Iquitos\, Perú. \n\n\n\nLas inscripciones las puede realizar el club a través del portal de Identifica.pe hasta el día 12 de julio.
URL:https://judoperu.org/evento/super-copa-toshihiko-koga-2024/
CATEGORIES:Copa / Super Copa Clubes,Master Class
END:VEVENT
BEGIN:VEVENT
DTSTART;TZID=America/Lima:20240727T100000
DTEND;TZID=America/Lima:20240802T170000
DTSTAMP:20260421T052332
CREATED:20241005T214027Z
LAST-MODIFIED:20241005T214058Z
UID:5871-1722074400-1722618000@judoperu.org
SUMMARY:Juegos Olímpicos Paris 2024
DESCRIPTION:La competencia de individuales inicia el 27 de julio en la cual participará Juan Miguel Postigos Acuña\, siendo sus cuartos juegos olímpicos. \n\n\n\nJuan Miguel iniciará su participación en el segundo día de la competencia\, día 28 de julio\, frente a Matteo Piras (ITA) en la categoría de -66kgs. Las planillas del sorteo y resultados se podrán ver a través de JudoTV.com .
URL:https://judoperu.org/evento/juegos-olimpicos-paris-2024/
ATTACH;FMTTYPE=image/png:https://judoperu.org/wp-content/uploads/2024/10/Juan-Postigos-Paris-2024.png
END:VEVENT
END:VCALENDAR