BEGIN:VCALENDAR
VERSION:2.0
PRODID:-//Judo Perú - ECPv6.15.20//NONSGML v1.0//EN
CALSCALE:GREGORIAN
METHOD:PUBLISH
X-ORIGINAL-URL:https://judoperu.org
X-WR-CALDESC:Eventos para Judo Perú
REFRESH-INTERVAL;VALUE=DURATION:PT1H
X-Robots-Tag:noindex
X-PUBLISHED-TTL:PT1H
BEGIN:VTIMEZONE
TZID:America/Lima
BEGIN:STANDARD
TZOFFSETFROM:-0500
TZOFFSETTO:-0500
TZNAME:-05
DTSTART:20210101T000000
END:STANDARD
END:VTIMEZONE
BEGIN:VEVENT
DTSTART;TZID=America/Lima:20220125T110000
DTEND;TZID=America/Lima:20220125T120000
DTSTAMP:20260420T094922
CREATED:20220210T213202Z
LAST-MODIFIED:20220210T213259Z
UID:2033-1643108400-1643112000@judoperu.org
SUMMARY:Presentación del Head Coach de Judo Perú
DESCRIPTION:Llegó el día y hoy a partir de las 11:00 am realizaremos la transmisión en vivo de la presentación de nuestro nuevo Head Coach\, a través de la página de Facebook de Judo Perú. ¡Los esperamos!  \n\n\n\nhttps://www.facebook.com/judoperu
URL:https://judoperu.org/evento/presentacion-del-head-coach-de-judo-peru/
END:VEVENT
END:VCALENDAR