BEGIN:VCALENDAR
VERSION:2.0
PRODID:-//Judo Perú - ECPv6.15.20//NONSGML v1.0//EN
CALSCALE:GREGORIAN
METHOD:PUBLISH
X-WR-CALNAME:Judo Perú
X-ORIGINAL-URL:https://judoperu.org
X-WR-CALDESC:Eventos para Judo Perú
REFRESH-INTERVAL;VALUE=DURATION:PT1H
X-Robots-Tag:noindex
X-PUBLISHED-TTL:PT1H
BEGIN:VTIMEZONE
TZID:America/Lima
BEGIN:STANDARD
TZOFFSETFROM:-0500
TZOFFSETTO:-0500
TZNAME:-05
DTSTART:20210101T000000
END:STANDARD
END:VTIMEZONE
BEGIN:VEVENT
DTSTART;TZID=America/Lima:20220316T170000
DTEND;TZID=America/Lima:20220401T210000
DTSTAMP:20260422T165201
CREATED:20211213T184944Z
LAST-MODIFIED:20220225T195645Z
UID:1987-1647450000-1648846800@judoperu.org
SUMMARY:Curso de Categorización de Entrenadores Nivel I
DESCRIPTION:
URL:https://judoperu.org/evento/tentativo-curso-de-categorizacion-de-entrenadores-nivel-i/
END:VEVENT
BEGIN:VEVENT
DTSTART;TZID=America/Lima:20220409T070000
DTEND;TZID=America/Lima:20220409T190000
DTSTAMP:20260422T165201
CREATED:20211213T185905Z
LAST-MODIFIED:20211213T190042Z
UID:1997-1649487600-1649530800@judoperu.org
SUMMARY:Campeonato Panamericano Cadete Lima 2022
DESCRIPTION:
URL:https://judoperu.org/evento/campeonato-panamericano-cadete-lima-2022/
CATEGORIES:Campeonato Internacional
END:VEVENT
BEGIN:VEVENT
DTSTART;TZID=America/Lima:20220410T070000
DTEND;TZID=America/Lima:20220410T190000
DTSTAMP:20260422T165201
CREATED:20211213T185943Z
LAST-MODIFIED:20211213T185944Z
UID:1999-1649574000-1649617200@judoperu.org
SUMMARY:Campeonato Panamericano Junior Lima 2022
DESCRIPTION:
URL:https://judoperu.org/evento/campeonato-panamericano-junior-lima-2022/
CATEGORIES:Campeonato Internacional
END:VEVENT
BEGIN:VEVENT
DTSTART;TZID=America/Lima:20220411T070000
DTEND;TZID=America/Lima:20220411T160000
DTSTAMP:20260422T165201
CREATED:20211213T190027Z
LAST-MODIFIED:20211213T190029Z
UID:2001-1649660400-1649692800@judoperu.org
SUMMARY:Campeonato Panamericano Equipos Mixtos Junior Lima 2022
DESCRIPTION:
URL:https://judoperu.org/evento/campeonato-panamericano-equipos-mixtos-junior-lima-2022/
CATEGORIES:Campeonato Internacional
END:VEVENT
BEGIN:VEVENT
DTSTART;TZID=America/Lima:20220412T070000
DTEND;TZID=America/Lima:20220413T160000
DTSTAMP:20260422T165201
CREATED:20211213T205409Z
LAST-MODIFIED:20211213T205410Z
UID:2013-1649746800-1649865600@judoperu.org
SUMMARY:Campo de Entrenamiento Panamericano Lima 2022
DESCRIPTION:
URL:https://judoperu.org/evento/campo-de-entrenamiento-panamericano-lima-2022/
END:VEVENT
BEGIN:VEVENT
DTSTART;TZID=America/Lima:20220415T070000
DTEND;TZID=America/Lima:20220416T190000
DTSTAMP:20260422T165201
CREATED:20211213T204818Z
LAST-MODIFIED:20211213T204819Z
UID:2009-1650006000-1650135600@judoperu.org
SUMMARY:Campeonato Panamericano Senior Lima 2022
DESCRIPTION:
URL:https://judoperu.org/evento/campeonato-panamericano-senior-lima-2022/
END:VEVENT
BEGIN:VEVENT
DTSTART;TZID=America/Lima:20220417T070000
DTEND;TZID=America/Lima:20220417T160000
DTSTAMP:20260422T165201
CREATED:20211213T204910Z
LAST-MODIFIED:20211213T204912Z
UID:2011-1650178800-1650211200@judoperu.org
SUMMARY:Campeonato Panamericano Equipos Mixtos Senior Lima 2022
DESCRIPTION:
URL:https://judoperu.org/evento/campeonato-panamericano-equipos-mixtos-senior-lima-2022/
END:VEVENT
BEGIN:VEVENT
DTSTART;TZID=America/Lima:20220503T070000
DTEND;TZID=America/Lima:20220504T160000
DTSTAMP:20260422T165201
CREATED:20220426T223459Z
LAST-MODIFIED:20220426T223459Z
UID:2038-1651561200-1651680000@judoperu.org
SUMMARY:Judo - III Juegos Suramericanos de la Juventud Rosario 2022
DESCRIPTION:
URL:https://judoperu.org/evento/judo-iii-juegos-suramericanos-de-la-juventud-rosario-2022/
CATEGORIES:Campeonato Internacional
END:VEVENT
BEGIN:VEVENT
DTSTART;TZID=America/Lima:20220617T080000
DTEND;TZID=America/Lima:20220617T090000
DTSTAMP:20260422T165201
CREATED:20220616T214312Z
LAST-MODIFIED:20220616T214315Z
UID:2053-1655452800-1655456400@judoperu.org
SUMMARY:Exhibición en el COP
DESCRIPTION:¿Quieres saber de qué trata nuestro deporte? Acompáñanos este viernes 17 de junio de 9:00 a 10:00 am en las instalaciones del Comité Olímpico Peruano ubicado en la Av. del Aire cuadra 10. ¡Te esperamos!
URL:https://judoperu.org/evento/exhibicion-en-el-cop/
END:VEVENT
BEGIN:VEVENT
DTSTART;TZID=America/Lima:20220625T070000
DTEND;TZID=America/Lima:20220628T160000
DTSTAMP:20260422T165201
CREATED:20220426T223623Z
LAST-MODIFIED:20220426T223624Z
UID:2040-1656140400-1656432000@judoperu.org
SUMMARY:Judo - XIX Juegos Bolivarianos Valledupar 2022
DESCRIPTION:
URL:https://judoperu.org/evento/judo-xix-juegos-bolivarianos-valledupar-2022/
CATEGORIES:Campeonato Internacional
END:VEVENT
BEGIN:VEVENT
DTSTART;TZID=America/Lima:20220823T070000
DTEND;TZID=America/Lima:20220824T160000
DTSTAMP:20260422T165201
CREATED:20220518T210525Z
LAST-MODIFIED:20220804T144809Z
UID:2045-1661238000-1661356800@judoperu.org
SUMMARY:Campeonato Nacional Universitario de Judo
DESCRIPTION:Organizador: FEDUP – Federación Deportiva Universitaria del Perú
URL:https://judoperu.org/evento/campeonato-nacional-universitario-de-judo/
CATEGORIES:Campeonato Nacional
END:VEVENT
BEGIN:VEVENT
DTSTART;TZID=America/Lima:20220914T070000
DTEND;TZID=America/Lima:20220914T160000
DTSTAMP:20260422T165201
CREATED:20211213T205611Z
LAST-MODIFIED:20211213T205613Z
UID:2019-1663138800-1663171200@judoperu.org
SUMMARY:Copa Panamericana Cadete Lima 2022
DESCRIPTION:
URL:https://judoperu.org/evento/copa-panamericana-cadete-lima-2022/
END:VEVENT
BEGIN:VEVENT
DTSTART;TZID=America/Lima:20220915T070000
DTEND;TZID=America/Lima:20220915T160000
DTSTAMP:20260422T165201
CREATED:20211213T205711Z
LAST-MODIFIED:20211213T205713Z
UID:2021-1663225200-1663257600@judoperu.org
SUMMARY:Copa Panamericana Junior Lima 2022
DESCRIPTION:
URL:https://judoperu.org/evento/copa-panamericana-junior-lima-2022/
END:VEVENT
BEGIN:VEVENT
DTSTART;TZID=America/Lima:20220917T070000
DTEND;TZID=America/Lima:20220918T160000
DTSTAMP:20260422T165201
CREATED:20211213T205934Z
LAST-MODIFIED:20211213T205935Z
UID:2023-1663398000-1663516800@judoperu.org
SUMMARY:Open Panamericano Lima 2022
DESCRIPTION:
URL:https://judoperu.org/evento/open-panamericano-lima-2022/
END:VEVENT
BEGIN:VEVENT
DTSTART;TZID=America/Lima:20220925T070000
DTEND;TZID=America/Lima:20220925T160000
DTSTAMP:20260422T165201
CREATED:20221021T211839Z
LAST-MODIFIED:20221021T211911Z
UID:2099-1664089200-1664121600@judoperu.org
SUMMARY:Etapa Macroregional Junin – Juegos Escolares 2022 – Judo
DESCRIPTION:Organiza: DRE – Dirección Regional de Educación JunínParticipan:  Las regiones de Macro N° 02: Junín\, Huánuco\, Pasco\, Huancavelica.
URL:https://judoperu.org/evento/etapa-macroregional-junin-juegos-escolares-2022-judo/
END:VEVENT
BEGIN:VEVENT
DTSTART;TZID=America/Lima:20220927T070000
DTEND;TZID=America/Lima:20220927T160000
DTSTAMP:20260422T165201
CREATED:20221021T212013Z
LAST-MODIFIED:20221021T212252Z
UID:2102-1664262000-1664294400@judoperu.org
SUMMARY:Etapa Macroregional San Martin – Juegos Escolares 2022 – Judo
DESCRIPTION:Organiza: DRE – Dirección Regional de Educación San MartinParticipan: Las regiones de Macro N° 01: San Martín\, Loreto\, Amazonas\, Ucayali.
URL:https://judoperu.org/evento/etapa-macroregional-san-martin-juegos-escolares-2022-judo/
END:VEVENT
BEGIN:VEVENT
DTSTART;TZID=America/Lima:20220929T070000
DTEND;TZID=America/Lima:20220929T160000
DTSTAMP:20260422T165201
CREATED:20221021T212131Z
LAST-MODIFIED:20221021T212133Z
UID:2104-1664434800-1664467200@judoperu.org
SUMMARY:Etapa Macroregional La Libertad – Juegos Escolares 2022 – Judo
DESCRIPTION:Organiza: DRE – Dirección Regional de Educación La LibertadParticipan: Las regiones de Macro N° 04: La Libertad\, Lambayeque\, Cajamarca\, Piura\, Tumbes.
URL:https://judoperu.org/evento/etapa-macroregional-la-libertad-juegos-escolares-2022-judo/
END:VEVENT
BEGIN:VEVENT
DTSTART;TZID=America/Lima:20220930T070000
DTEND;TZID=America/Lima:20220930T160000
DTSTAMP:20260422T165201
CREATED:20221021T212355Z
LAST-MODIFIED:20221021T212356Z
UID:2106-1664521200-1664553600@judoperu.org
SUMMARY:Etapa Macroregional Tacna – Juegos Escolares 2022 – Judo
DESCRIPTION:Organiza: DRE – Dirección Regional de Educación TacnaParticipan: Las regiones de Macro N° 03: Tacna\, Puno\, Arequipa\, Moquegua.
URL:https://judoperu.org/evento/etapa-macroregional-tacna-juegos-escolares-2022-judo/
END:VEVENT
BEGIN:VEVENT
DTSTART;TZID=America/Lima:20221004T070000
DTEND;TZID=America/Lima:20221004T160000
DTSTAMP:20260422T165201
CREATED:20221021T212455Z
LAST-MODIFIED:20221021T212456Z
UID:2108-1664866800-1664899200@judoperu.org
SUMMARY:Etapa Macroregional Ica – Juegos Escolares 2022 – Judo
DESCRIPTION:Organiza: DRE – Dirección Regional de Educación IcaParticipan: Las regiones de Macro N° 05: Ica\, Lima Metropolitana\, Lima Provincias\, Callao\, Ancash.
URL:https://judoperu.org/evento/etapa-macroregional-ica-juegos-escolares-2022-judo/
END:VEVENT
BEGIN:VEVENT
DTSTART;TZID=America/Lima:20221005T070000
DTEND;TZID=America/Lima:20221005T160000
DTSTAMP:20260422T165201
CREATED:20221021T212603Z
LAST-MODIFIED:20221021T212604Z
UID:2110-1664953200-1664985600@judoperu.org
SUMMARY:Etapa Macroregional Apurimac – Juegos Escolares 2022 – Judo
DESCRIPTION:Organiza: DRE – Dirección Regional de Educación ApurímacParticipan: Las regiones de Macro N° 06: Apurímac\, Madre de Dios\, Ayacucho\, Cusco.
URL:https://judoperu.org/evento/etapa-macroregional-apurimac-juegos-escolares-2022-judo/
END:VEVENT
BEGIN:VEVENT
DTSTART;TZID=America/Lima:20221011T070000
DTEND;TZID=America/Lima:20221013T160000
DTSTAMP:20260422T165201
CREATED:20220426T223820Z
LAST-MODIFIED:20220426T223821Z
UID:2042-1665471600-1665676800@judoperu.org
SUMMARY:Judo - XII Juegos Suramericanos Asunción 2022
DESCRIPTION:
URL:https://judoperu.org/evento/judo-xii-juegos-suramericanos-asuncion-2022/
CATEGORIES:Campeonato Internacional
END:VEVENT
BEGIN:VEVENT
DTSTART;TZID=America/Lima:20221024T070000
DTEND;TZID=America/Lima:20221024T160000
DTSTAMP:20260422T165201
CREATED:20221021T204730Z
LAST-MODIFIED:20221021T204731Z
UID:2095-1666594800-1666627200@judoperu.org
SUMMARY:Etapa Nacional - Juegos Escolares 2022 - Judo
DESCRIPTION:Visita: https://www.minedu.gob.pe/jedpa/«Los Juegos Escolares Deportivos y Paradeportivos (JEDPA) son una intervención pedagógica masiva\, que se extiende más allá de la institución educativa\, permite espacios auténticos de aprendizaje en favor de los estudiantes desde la práctica social más reconocida\, el deporte\, logrando así que el estudiante practique una vida activa y saludable para su bienestar. \n\n\n\nPara la organización de los JEDPA se cuenta con el apoyo del Instituto Peruano del Deporte\, Comité Olímpico Peruano\, Asociación Nacional Paralímpica del Perú\, Municipalidades y Gobiernos Locales y Regionales\, Federaciones Deportivas Nacionales y Organizaciones Civiles.»
URL:https://judoperu.org/evento/etapa-nacional-juegos-escolares-2022-judo/
END:VEVENT
BEGIN:VEVENT
DTSTART;TZID=America/Lima:20221029T070000
DTEND;TZID=America/Lima:20221029T160000
DTSTAMP:20260422T165201
CREATED:20211213T205526Z
LAST-MODIFIED:20230113T004241Z
UID:2017-1667026800-1667059200@judoperu.org
SUMMARY:Copa Kyus Lima 2022
DESCRIPTION:
URL:https://judoperu.org/evento/copa-kyus-lima-2022/
CATEGORIES:Copa / Super Copa Clubes
END:VEVENT
BEGIN:VEVENT
DTSTART;TZID=America/Lima:20221030T070000
DTEND;TZID=America/Lima:20221030T160000
DTSTAMP:20260422T165201
CREATED:20221021T203736Z
LAST-MODIFIED:20221021T203737Z
UID:2091-1667113200-1667145600@judoperu.org
SUMMARY:Copa Mini Prix
DESCRIPTION:Cerramos el mes de octubre con los siguientes campeonatos en Lima.29 octubre : Copa Nacional Kyus30 octubre: Copa Mini PrixEncuentra las bases del campeonato en la sección eventos \, ingresando al siguiente enlace: https://identifica.pe/auth/loginSi aun no cuenta con usuario y contraseña se podrán contactar al siguiente correo: administracion@judoperu.org
URL:https://judoperu.org/evento/copa-mini-prix/
END:VEVENT
BEGIN:VEVENT
DTSTART;TZID=America/Lima:20221105T070000
DTEND;TZID=America/Lima:20221105T190000
DTSTAMP:20260422T165202
CREATED:20221021T203026Z
LAST-MODIFIED:20221021T204204Z
UID:2088-1667631600-1667674800@judoperu.org
SUMMARY:IV Copa San Sebastián - Arequipa
DESCRIPTION:Lugar: ArequipaOrganiza: Club de Judo San SebastiánEntrenador FDPJ Nivel 1: Dante Saldarriaga ChanduviCorreo de contacto: dantejudoperuaqp@gmail.comCategorías en evento: Miniprix\, Sub13\, Sub15\, Sub18\, Sub21\, Senior
URL:https://judoperu.org/evento/iv-copa-san-sebastian/
END:VEVENT
BEGIN:VEVENT
DTSTART;TZID=America/Lima:20221105T070000
DTEND;TZID=America/Lima:20221106T170000
DTSTAMP:20260422T165202
CREATED:20220518T212042Z
LAST-MODIFIED:20221021T205047Z
UID:2047-1667631600-1667754000@judoperu.org
SUMMARY:24° Juegos Universitarios Nacionales 2022 - Judo
DESCRIPTION:Organizador: FEDUP – Federación Deportiva Universitaria del Perú
URL:https://judoperu.org/evento/24-juegos-universitarios-nacionales-universiada-2022/
END:VEVENT
BEGIN:VEVENT
DTSTART;TZID=America/Lima:20221202T080000
DTEND;TZID=America/Lima:20221202T170000
DTSTAMP:20260422T165202
CREATED:20211213T210023Z
LAST-MODIFIED:20221113T173928Z
UID:2025-1669968000-1670000400@judoperu.org
SUMMARY:Campeonato Nacional Sub13 - Sub15 Lima 2022
DESCRIPTION:
URL:https://judoperu.org/evento/campeonato-nacional-sub13-sub15-lima-2022/
CATEGORIES:Campeonato Nacional
END:VEVENT
BEGIN:VEVENT
DTSTART;TZID=America/Lima:20221203T080000
DTEND;TZID=America/Lima:20221203T170000
DTSTAMP:20260422T165202
CREATED:20221028T164239Z
LAST-MODIFIED:20221113T174119Z
UID:2115-1670054400-1670086800@judoperu.org
SUMMARY:Campeonato Nacional Cadete - Junior Lima 2022
DESCRIPTION:
URL:https://judoperu.org/evento/campeonato-nacional-cadete-junior-lima-2022/
CATEGORIES:Campeonato Nacional
END:VEVENT
BEGIN:VEVENT
DTSTART;TZID=America/Lima:20221204T080000
DTEND;TZID=America/Lima:20221204T170000
DTSTAMP:20260422T165202
CREATED:20221028T170105Z
LAST-MODIFIED:20221113T173029Z
UID:2118-1670140800-1670173200@judoperu.org
SUMMARY:Campeonato Nacional Senior Lima 2022
DESCRIPTION:
URL:https://judoperu.org/evento/campeonato-nacional-senior-lima-2022/
END:VEVENT
BEGIN:VEVENT
DTSTART;TZID=America/Lima:20221210T080000
DTEND;TZID=America/Lima:20221210T170000
DTSTAMP:20260422T165202
CREATED:20221118T133551Z
LAST-MODIFIED:20221118T133552Z
UID:2183-1670659200-1670691600@judoperu.org
SUMMARY:Examen de Grado Lima 2022
DESCRIPTION:
URL:https://judoperu.org/evento/examen-de-grado-lima-2022/
END:VEVENT
END:VCALENDAR