BEGIN:VCALENDAR
VERSION:2.0
PRODID:-//Judo Perú - ECPv6.15.20//NONSGML v1.0//EN
CALSCALE:GREGORIAN
METHOD:PUBLISH
X-WR-CALNAME:Judo Perú
X-ORIGINAL-URL:https://judoperu.org
X-WR-CALDESC:Eventos para Judo Perú
REFRESH-INTERVAL;VALUE=DURATION:PT1H
X-Robots-Tag:noindex
X-PUBLISHED-TTL:PT1H
BEGIN:VTIMEZONE
TZID:America/Lima
BEGIN:STANDARD
TZOFFSETFROM:-0500
TZOFFSETTO:-0500
TZNAME:-05
DTSTART:20190101T000000
END:STANDARD
END:VTIMEZONE
BEGIN:VEVENT
DTSTART;TZID=America/Lima:20201112T110000
DTEND;TZID=America/Lima:20201112T120000
DTSTAMP:20260419T192227
CREATED:20201103T041449Z
LAST-MODIFIED:20201103T041450Z
UID:1471-1605178800-1605182400@judoperu.org
SUMMARY:Tecnificación Virtual
DESCRIPTION:¡Acompáñanos en nuestra sesión de Tecnificación Virtual a las 16:00 horas (PER)! Sesión dirigida a toda la comunidad judoka. Completa el formulario para recibir el enlace de la sesión por ZOOM.
URL:https://judoperu.org/evento/tecnificacion-virtual-20/
CATEGORIES:En vivo,Entrenamiento
END:VEVENT
BEGIN:VEVENT
DTSTART;TZID=America/Lima:20201112T110000
DTEND;TZID=America/Lima:20201112T120000
DTSTAMP:20260419T192227
CREATED:20201103T041609Z
LAST-MODIFIED:20201103T041609Z
UID:1473-1605178800-1605182400@judoperu.org
SUMMARY:Tecnificación Virtual
DESCRIPTION:¡Acompáñanos en nuestra sesión de Tecnificación Virtual a las 16:00 horas (PER)! Sesión dirigida a toda la comunidad judoka. Completa el formulario para recibir el enlace de la sesión por ZOOM.
URL:https://judoperu.org/evento/tecnificacion-virtual-21/
CATEGORIES:En vivo,Entrenamiento
END:VEVENT
BEGIN:VEVENT
DTSTART;TZID=America/Lima:20201113T140000
DTEND;TZID=America/Lima:20201113T140000
DTSTAMP:20260419T192227
CREATED:20201028T082024Z
LAST-MODIFIED:20201028T082026Z
UID:1320-1605276000-1605276000@judoperu.org
SUMMARY:Examen de Ascenso a Grado Dan
DESCRIPTION:Para postulantes a 1er Dan
URL:https://judoperu.org/evento/examen-de-ascenso-a-grado-dan-8/
CATEGORIES:En vivo,Examen de Ascenso
END:VEVENT
BEGIN:VEVENT
DTSTART;TZID=America/Lima:20201114T090000
DTEND;TZID=America/Lima:20201114T090000
DTSTAMP:20260419T192227
CREATED:20201028T082157Z
LAST-MODIFIED:20201028T082158Z
UID:1322-1605344400-1605344400@judoperu.org
SUMMARY:Examen de Ascenso a Grado Dan
DESCRIPTION:Para postulantes a 1er Dan
URL:https://judoperu.org/evento/examen-de-ascenso-a-grado-dan-9/
CATEGORIES:En vivo,Examen de Ascenso
END:VEVENT
BEGIN:VEVENT
DTSTART;TZID=America/Lima:20201115T050000
DTEND;TZID=America/Lima:20201115T050000
DTSTAMP:20260419T192227
CREATED:20201028T082245Z
LAST-MODIFIED:20201028T082246Z
UID:1324-1605416400-1605416400@judoperu.org
SUMMARY:Examen de Ascenso a Grado Dan
DESCRIPTION:Para postulantes a 1er Dan
URL:https://judoperu.org/evento/examen-de-ascenso-a-grado-dan-10/
CATEGORIES:En vivo,Examen de Ascenso
END:VEVENT
BEGIN:VEVENT
DTSTART;TZID=America/Lima:20201117T030000
DTEND;TZID=America/Lima:20201118T120000
DTSTAMP:20260419T192227
CREATED:20201028T080733Z
LAST-MODIFIED:20201028T081013Z
UID:1312-1605582000-1605700800@judoperu.org
SUMMARY:Campeonato Panamericano Cadete & Junior Guadalajara 2020
DESCRIPTION:
URL:https://judoperu.org/evento/campeonato-panamericano-cadete-junior-guadalajara-2020/
CATEGORIES:Campeonato Internacional
END:VEVENT
BEGIN:VEVENT
DTSTART;TZID=America/Lima:20201117T110000
DTEND;TZID=America/Lima:20201117T120000
DTSTAMP:20260419T192227
CREATED:20201103T041706Z
LAST-MODIFIED:20201103T041707Z
UID:1475-1605610800-1605614400@judoperu.org
SUMMARY:Tecnificación Virtual
DESCRIPTION:¡Acompáñanos en nuestra sesión de Tecnificación Virtual a las 16:00 horas (PER)! Sesión dirigida a toda la comunidad judoka. Completa el formulario para recibir el enlace de la sesión por ZOOM.
URL:https://judoperu.org/evento/tecnificacion-virtual-22/
CATEGORIES:En vivo,Entrenamiento
END:VEVENT
BEGIN:VEVENT
DTSTART;TZID=America/Lima:20201119T110000
DTEND;TZID=America/Lima:20201119T120000
DTSTAMP:20260419T192227
CREATED:20201103T041749Z
LAST-MODIFIED:20201103T041750Z
UID:1477-1605783600-1605787200@judoperu.org
SUMMARY:Tecnificación Virtual
DESCRIPTION:¡Acompáñanos en nuestra sesión de Tecnificación Virtual a las 16:00 horas (PER)! Sesión dirigida a toda la comunidad judoka. Completa el formulario para recibir el enlace de la sesión por ZOOM.
URL:https://judoperu.org/evento/tecnificacion-virtual-23/
CATEGORIES:En vivo,Entrenamiento
END:VEVENT
BEGIN:VEVENT
DTSTART;TZID=America/Lima:20201120T030000
DTEND;TZID=America/Lima:20201122T120000
DTSTAMP:20260419T192227
CREATED:20201028T080847Z
LAST-MODIFIED:20201028T080848Z
UID:1314-1605841200-1606046400@judoperu.org
SUMMARY:Campeonato Panamericano Senior & por Equipos Guadalajara 2020
DESCRIPTION:
URL:https://judoperu.org/evento/campeonato-panamericano-senior-por-equipos-guadalajara-2020/
CATEGORIES:Campeonato Internacional
END:VEVENT
BEGIN:VEVENT
DTSTART;TZID=America/Lima:20201124T110000
DTEND;TZID=America/Lima:20201124T120000
DTSTAMP:20260419T192227
CREATED:20201103T042110Z
LAST-MODIFIED:20201103T042111Z
UID:1479-1606215600-1606219200@judoperu.org
SUMMARY:Tecnificación Virtual
DESCRIPTION:¡Acompáñanos en nuestra sesión de Tecnificación Virtual a las 16:00 horas (PER)! Sesión dirigida a toda la comunidad judoka. Completa el formulario para recibir el enlace de la sesión por ZOOM.
URL:https://judoperu.org/evento/tecnificacion-virtual-24/
CATEGORIES:En vivo,Entrenamiento
END:VEVENT
BEGIN:VEVENT
DTSTART;TZID=America/Lima:20201126T110000
DTEND;TZID=America/Lima:20201126T120000
DTSTAMP:20260419T192227
CREATED:20201103T042156Z
LAST-MODIFIED:20201103T042157Z
UID:1481-1606388400-1606392000@judoperu.org
SUMMARY:Tecnificación Virtual
DESCRIPTION:¡Acompáñanos en nuestra sesión de Tecnificación Virtual a las 16:00 horas (PER)! Sesión dirigida a toda la comunidad judoka. Completa el formulario para recibir el enlace de la sesión por ZOOM.
URL:https://judoperu.org/evento/tecnificacion-virtual-25/
CATEGORIES:En vivo,Entrenamiento
END:VEVENT
BEGIN:VEVENT
DTSTART;TZID=America/Lima:20201204T050000
DTEND;TZID=America/Lima:20201204T120000
DTSTAMP:20260419T192227
CREATED:20201023T055943Z
LAST-MODIFIED:20201108T233012Z
UID:995-1607058000-1607083200@judoperu.org
SUMMARY:Copa Panamericana Junior Lima 2020
DESCRIPTION:Mayor información: eventos@judoperu.org
URL:https://judoperu.org/evento/copa-panamericana-junior-lima-2020/
CATEGORIES:Campeonato Internacional
END:VEVENT
BEGIN:VEVENT
DTSTART;TZID=America/Lima:20201206T100000
DTEND;TZID=America/Lima:20201207T170000
DTSTAMP:20260419T192227
CREATED:20201023T055902Z
LAST-MODIFIED:20201108T232953Z
UID:993-1607248800-1607360400@judoperu.org
SUMMARY:Open Panamericano Lima 2020
DESCRIPTION:Mayor información: eventos@judoperu.org
URL:https://judoperu.org/evento/open-panamericano-lima-2020/
CATEGORIES:Campeonato Internacional
END:VEVENT
BEGIN:VEVENT
DTSTART;TZID=America/Lima:20210121T080000
DTEND;TZID=America/Lima:20210225T170000
DTSTAMP:20260419T192227
CREATED:20210909T031525Z
LAST-MODIFIED:20210909T031527Z
UID:1857-1611216000-1614272400@judoperu.org
SUMMARY:Ippon en Casa Verano 2021 – 3 a 6 años
DESCRIPTION:¡Este verano 2021 seguimos conectados en Judo Perú! \n\n\n\nSi eres principiante y quieres practicar judo\, inscríbete a las clases virtuales de 3 a 6 años: shorturl.at/jtM14 \n\n\n\nSesiones MARTES y JUEVESHorario: 10:00 am – 10:45 amInicio: 21 de enero de 2021Fin: 25 de febrero de 2021 \n\n\n\nCosto: En este programa de verano\, dada la coyuntura COVID19\, no se realizará pago\, las vacantes son muy limitadas. \n\n\n\nRecomendaciones:– Usar ropa deportiva / ropa cómoda.– Contar con botella de agua ¡La hidratación es importante!– Tener encendida la cámara durante las sesiones.– Contar con la presencia de una persona responsable del menor durante la sesión.
URL:https://judoperu.org/evento/ippon-en-casa-verano-2021-3-a-6-anos-12/
CATEGORIES:Entrenamiento
END:VEVENT
BEGIN:VEVENT
DTSTART;TZID=America/Lima:20210121T090000
DTEND;TZID=America/Lima:20210225T094500
DTSTAMP:20260419T192227
CREATED:20210109T025102Z
LAST-MODIFIED:20210909T025802Z
UID:1850-1611219600-1614246300@judoperu.org
SUMMARY:Ippon en Casa Verano 2021 – 14 años a más
DESCRIPTION:¡Este verano 2021 seguimos conectados en Judo Perú! \n\n\n\nSi eres principiante y quieres practicar judo\, inscríbete a las clases virtuales de 14 a más años: shorturl.at/bBT06Sesiones MARTES y JUEVESHorario: 9:00 am – 9:45 amInicio: 21 de enero de 2021Fin: 25 de febrero de 2021 \n\n\n\nCosto: En este programa de verano\, dada la coyuntura COVID19\, no se realizará pago\, las vacantes son muy limitadas. \n\n\n\nRecomendaciones:– Usar ropa deportiva / ropa cómoda.– Contar con botella de agua ¡La hidratación es importante!– Tener encendida la cámara durante las clases.
URL:https://judoperu.org/evento/ippon-en-casa-verano-2021-14-anos-a-mas-12/
CATEGORIES:Entrenamiento
END:VEVENT
BEGIN:VEVENT
DTSTART;TZID=America/Lima:20210121T110000
DTEND;TZID=America/Lima:20210225T114500
DTSTAMP:20260419T192227
CREATED:20210109T025805Z
LAST-MODIFIED:20210909T025933Z
UID:1853-1611226800-1614253500@judoperu.org
SUMMARY:Ippon en Casa Verano 2021 – 7 a 13 años
DESCRIPTION:¡Este verano 2021 seguimos conectados en Judo Perú! \n\n\n\nSi eres principiante y quieres practicar judo\, inscríbete a las clases virtuales de 7 a 13 años: shorturl.at/pINXZSesiones MARTES y JUEVESHorario: 11:00 am –11:45 amInicio: 21 de enero de 2021Fin: 25 de febrero de 2021 \n\n\n\nCosto: En este programa de verano\, dada la coyuntura COVID19\, no se realizará pago\, las vacantes son muy limitadas. \n\n\n\nRecomendaciones:– Usar ropa deportiva / ropa cómoda.– Contar con botella de agua ¡La hidratación es importante!– Tener encendida la cámara durante las clases.
URL:https://judoperu.org/evento/ippon-en-casa-verano-2021-7-a-13-anos-9/
CATEGORIES:Entrenamiento
END:VEVENT
BEGIN:VEVENT
DTSTART;TZID=America/Lima:20210121T160000
DTEND;TZID=America/Lima:20210625T160000
DTSTAMP:20260419T192227
CREATED:20210109T154246Z
LAST-MODIFIED:20210909T155200Z
UID:1879-1611244800-1624636800@judoperu.org
SUMMARY:Programa de Tecnificación 2021
DESCRIPTION:Para los nacidos hasta el año 2008 que ya practican judo y tienen como grado mínimo el cinturón verde\, pueden inscribirse en el siguiente enlace para las clases virtuales shorturl.at/htQTY \n\n\n\n* Cupos limitados. Completa el formulario y recibe el enlace de la sesión
URL:https://judoperu.org/evento/programa-de-tecnificacion-2021-19/
CATEGORIES:Entrenamiento
END:VEVENT
BEGIN:VEVENT
DTSTART;TZID=America/Lima:20210206T100000
DTEND;TZID=America/Lima:20210206T110000
DTSTAMP:20260419T192227
CREATED:20210206T233448Z
LAST-MODIFIED:20210206T233449Z
UID:1757-1612605600-1612609200@judoperu.org
SUMMARY:IV Desafío Internacional Judo Veteranos 2021
DESCRIPTION:¡Ponte tu judogi y participa en este entrenamiento! Toda la comunidad judoka está invitada este sábado 06 de febrero a las 10:00 horas bajo la dirección de sensei Carlos Berrios por zoom.
URL:https://judoperu.org/evento/iv-desafio-internacional-judo-veteranos-2021/
CATEGORIES:En vivo,Entrenamiento
END:VEVENT
BEGIN:VEVENT
DTSTART;TZID=America/Lima:20210213T190000
DTEND;TZID=America/Lima:20210213T200000
DTSTAMP:20260419T192227
CREATED:20210302T165550Z
LAST-MODIFIED:20210302T165551Z
UID:1788-1613242800-1613246400@judoperu.org
SUMMARY:Judo en Evolution 360
DESCRIPTION:Acompáñanos este sábado 13 de febrero en Evolution 360\, nuestro tema «Exámenes de grado en Judo» con un invitado especial\, Carlos Berrios Reyes\, 7mo grado Dan a las 19:00 horas.
URL:https://judoperu.org/evento/judo-en-evolution-360-11/
END:VEVENT
BEGIN:VEVENT
DTSTART;TZID=America/Lima:20210218T080000
DTEND;TZID=America/Lima:20210220T170000
DTSTAMP:20260419T192227
CREATED:20210221T223600Z
LAST-MODIFIED:20210221T223601Z
UID:1777-1613635200-1613840400@judoperu.org
SUMMARY:Tel Aviv Grand Slam 2021
DESCRIPTION:¡En vivo por live.ijf.org!Lugar: Tel Aviv – Israel18 Febrero desde las 2:30 horas PER – Juan Postigos -66kg 19 Febrero desde las 3:30 horas PER – Alonso Wong -73kg20 Febrero desde las 3:30 horas PER – Yuta Galarreta -90kg
URL:https://judoperu.org/evento/tel-aviv-grand-slam-2021/
END:VEVENT
BEGIN:VEVENT
DTSTART;TZID=America/Lima:20210227T190000
DTEND;TZID=America/Lima:20210227T200000
DTSTAMP:20260419T192227
CREATED:20210302T164843Z
LAST-MODIFIED:20210302T164844Z
UID:1785-1614452400-1614456000@judoperu.org
SUMMARY:Judo en Evolution 360
DESCRIPTION:Acompáñanos este sábado 27 de febrero en Evolution 360\, nuestro tema «Alimentación y Suplementos del judoca de Alto Rendimiento» con un invitado especial\, Giovanni Ognio\, asesor nutricional de la selección nacional  a las 19:00 horas.
URL:https://judoperu.org/evento/judo-en-evolution-360-10/
END:VEVENT
BEGIN:VEVENT
DTSTART;TZID=America/Lima:20210305T080000
DTEND;TZID=America/Lima:20210307T170000
DTSTAMP:20260419T192227
CREATED:20210302T170210Z
LAST-MODIFIED:20210302T170211Z
UID:1790-1614931200-1615136400@judoperu.org
SUMMARY:Tashkent Grand Slam 2021
DESCRIPTION:¡En vivo por live.ijf.org! \n\n\n\nLugar: Tashkent – Uzbekistan \n\n\n\n05 Marzo desde las 0:00 horas PERJuan Postigos -66kg y Brillith Gamarra -52kg06 Marzo desde las 0:00 horas PER Alonso Wong -73kg y Luis Angeles -81kg07 Marzo desde las 0:00 horas PERYuta Galarreta -90kg y Yuliana Bolivar +78kg
URL:https://judoperu.org/evento/tashkent-grand-slam-2021/
END:VEVENT
BEGIN:VEVENT
DTSTART;TZID=America/Lima:20210326T070000
DTEND;TZID=America/Lima:20210328T160000
DTSTAMP:20260419T192227
CREATED:20210302T014100Z
LAST-MODIFIED:20210909T021416Z
UID:1838-1616742000-1616947200@judoperu.org
SUMMARY:Tbilisi Grand Slam 2021
DESCRIPTION:¡En vivo por live.ijf.org! \n\n\n\nLugar: Tbilisi – Georgia \n\n\n\n26 MarzoDilmer Calle -60kg\, Juan Postigos -66kg y Brillith Gamarra -52kg27 MarzoAlonso Wong -73kg y Luis Angeles -81kg28 MarzoYuta Galarreta -90kg y Yuliana Bolivar +78kgEntrenador: Franco Loza
URL:https://judoperu.org/evento/tbilisi-grand-slam-2021/
CATEGORIES:Campeonato Internacional
END:VEVENT
BEGIN:VEVENT
DTSTART;TZID=America/Lima:20210401T070000
DTEND;TZID=America/Lima:20210403T160000
DTSTAMP:20260419T192227
CREATED:20210320T020700Z
LAST-MODIFIED:20210909T022131Z
UID:1840-1617260400-1617465600@judoperu.org
SUMMARY:Antalya Grand Slam 2021
DESCRIPTION:¡En vivo por live.ijf.org! \n\n\n\nLugar: Antalya – Turquía \n\n\n\n01 AbrilDilmer Calle -60kg y Brillith Gamarra -52kg02 AbrilAlonso Wong -73kg y Luis Angeles -81kg03 AbrilYuta Galarreta -90kg y Yuliana Bolivar +78kgEntrenador: Franco Loza
URL:https://judoperu.org/evento/antalya-grand-slam-2021/
CATEGORIES:Campeonato Internacional
END:VEVENT
BEGIN:VEVENT
DTSTART;TZID=America/Lima:20210415T070000
DTEND;TZID=America/Lima:20210416T160000
DTSTAMP:20260419T192227
CREATED:20210909T163759Z
LAST-MODIFIED:20210909T163801Z
UID:1885-1618470000-1618588800@judoperu.org
SUMMARY:Campeonato Panamericano Senior Guadalajara 2021
DESCRIPTION:¡En vivo por live.ijf.org! \n\n\n\nLugar: Guadalajara – México \n\n\n\n15 AbrilDilmer Calle -60kgAlexander Ramirez -60kgJuan Postigos -66kgMichael Patiño -66kg16 AbrilAlonso Wong -73kgLuis Angeles -81kgYuta Galarreta -90kg Daryl Yamamoto -90kgYuliana Bolivar +78kgEntrenador Franco LozaEntrenador Angelo AcostaFisioterapeuta Sandra Garcia
URL:https://judoperu.org/evento/campeonato-panamericano-senior-guadalajara-2021/
CATEGORIES:Campeonato Internacional
END:VEVENT
BEGIN:VEVENT
DTSTART;TZID=America/Lima:20210417T070000
DTEND;TZID=America/Lima:20210417T160000
DTSTAMP:20260419T192227
CREATED:20210909T163943Z
LAST-MODIFIED:20210909T163945Z
UID:1887-1618642800-1618675200@judoperu.org
SUMMARY:Open Panamericano Guadalajara 2021
DESCRIPTION:17 AbrilDilmer Calle -60kgAlexander Ramirez -60kgMichael Patiño -66kgLuis Angeles -81kgYuta Galarreta -90kgDaryl Yamamoto -90kgYuliana Bolivar +78kg \n\n\n\nEntrenador Franco LozaEntrenador Angelo AcostaFisioterapeuta Sandra Garcia
URL:https://judoperu.org/evento/open-panamericano-guadalajara-2021/
CATEGORIES:Campeonato Internacional
END:VEVENT
BEGIN:VEVENT
DTSTART;TZID=America/Lima:20210505T070000
DTEND;TZID=America/Lima:20210507T160000
DTSTAMP:20260419T192227
CREATED:20210409T021129Z
LAST-MODIFIED:20210909T022127Z
UID:1842-1620198000-1620403200@judoperu.org
SUMMARY:Kazan Grand Slam 2021
DESCRIPTION:¡En vivo por live.ijf.org! \n\n\n\nLugar: Kazan – Rusia \n\n\n\n05 MayoJuan Postigos -66kg06 MayoAlonso Wong -73kg07 MayoYuta Galarreta -90kg Entrenador: Franco Loza
URL:https://judoperu.org/evento/kazan-grand-slam-2021/
CATEGORIES:Campeonato Internacional
END:VEVENT
BEGIN:VEVENT
DTSTART;TZID=America/Lima:20210513T070000
DTEND;TZID=America/Lima:20210513T160000
DTSTAMP:20260419T192227
CREATED:20210113T174253Z
LAST-MODIFIED:20210113T174255Z
UID:1673-1620889200-1620921600@judoperu.org
SUMMARY:Copa Panamericana Junior Lima 2021
DESCRIPTION:
URL:https://judoperu.org/evento/copa-panamericana-junior-lima-2021/
END:VEVENT
BEGIN:VEVENT
DTSTART;TZID=America/Lima:20210515T070000
DTEND;TZID=America/Lima:20210516T160000
DTSTAMP:20260419T192227
CREATED:20210113T174433Z
LAST-MODIFIED:20210113T174435Z
UID:1675-1621062000-1621180800@judoperu.org
SUMMARY:Open Panamericano Lima 2021
DESCRIPTION:
URL:https://judoperu.org/evento/open-panamericano-lima-2021/
END:VEVENT
BEGIN:VEVENT
DTSTART;TZID=America/Lima:20210606T070000
DTEND;TZID=America/Lima:20210612T160000
DTSTAMP:20260419T192227
CREATED:20210509T021432Z
LAST-MODIFIED:20210909T022116Z
UID:1846-1622962800-1623513600@judoperu.org
SUMMARY:Campeonato Mundial Senior Hungría 2021
DESCRIPTION:¡En vivo por live.ijf.org! \n\n\n\nLugar: Budapest – Hungría \n\n\n\n06 Junio: Dilmer Calle -60kg y Brillith Gamarra -48kg07 Junio: Juan Postigos -66kg08 Junio: Alonso Wong -73kg09 Junio:  Luis Angeles -81kg10 Junio: Yuta Galarreta -90kg12 Junio: Yuliana Bolivar +78kgEntrenador: Franco Loza
URL:https://judoperu.org/evento/campeonato-mundial-senior-hungria-2021/
CATEGORIES:Campeonato Internacional
END:VEVENT
END:VCALENDAR