BEGIN:VCALENDAR
VERSION:2.0
PRODID:-//Judo Perú - ECPv6.15.20//NONSGML v1.0//EN
CALSCALE:GREGORIAN
METHOD:PUBLISH
X-WR-CALNAME:Judo Perú
X-ORIGINAL-URL:https://judoperu.org
X-WR-CALDESC:Eventos para Judo Perú
REFRESH-INTERVAL;VALUE=DURATION:PT1H
X-Robots-Tag:noindex
X-PUBLISHED-TTL:PT1H
BEGIN:VTIMEZONE
TZID:America/Lima
BEGIN:STANDARD
TZOFFSETFROM:-0500
TZOFFSETTO:-0500
TZNAME:-05
DTSTART:20250101T000000
END:STANDARD
END:VTIMEZONE
BEGIN:VEVENT
DTSTART;TZID=America/Lima:20260122T080000
DTEND;TZID=America/Lima:20260122T170000
DTSTAMP:20260420T051444
CREATED:20260122T174245Z
LAST-MODIFIED:20260122T174411Z
UID:7186-1769068800-1769101200@judoperu.org
SUMMARY:Campeonato Nacional de Kata Arequipa 2026
DESCRIPTION:Se desarrollará en la ciudad de Arequipa el Campeonato Nacional de Kata con las divisiones Cadete\, Junior y Senior: \n\n\n\n\nCadete: nage-no-kata (las 3 primeras series)\n\n\n\nJuniors: nage-no-kata (completo) y katame-no-kata\n\n\n\nSenior: nage-no-kata\, katame-no-kata y ju-no-kata
URL:https://judoperu.org/evento/campeonato-nacional-de-kata-arequipa-2026/
CATEGORIES:Campeonato Nacional
END:VEVENT
END:VCALENDAR