BEGIN:VCALENDAR
VERSION:2.0
PRODID:-//Judo Perú - ECPv6.15.20//NONSGML v1.0//EN
CALSCALE:GREGORIAN
METHOD:PUBLISH
X-WR-CALNAME:Judo Perú
X-ORIGINAL-URL:https://judoperu.org
X-WR-CALDESC:Eventos para Judo Perú
REFRESH-INTERVAL;VALUE=DURATION:PT1H
X-Robots-Tag:noindex
X-PUBLISHED-TTL:PT1H
BEGIN:VTIMEZONE
TZID:America/Lima
BEGIN:STANDARD
TZOFFSETFROM:-0500
TZOFFSETTO:-0500
TZNAME:-05
DTSTART:20230101T000000
END:STANDARD
END:VTIMEZONE
BEGIN:VEVENT
DTSTART;TZID=America/Lima:20241123T090000
DTEND;TZID=America/Lima:20241123T130000
DTSTAMP:20260422T054846
CREATED:20241110T150200Z
LAST-MODIFIED:20241112T024312Z
UID:5951-1732352400-1732366800@judoperu.org
SUMMARY:Campeonato Nacional Junior Lima 2024
DESCRIPTION:El Campeonato Nacional Junior se realizará el día 23 de noviembre en las instalaciones del Polideportivo 2 de la Videna\, que estará iniciando a las 09:00 horas. \n\n\n\nLos atletas pueden ser registrados en Identifica. Deben contar con el ID FDPJ 2024 activo.
URL:https://judoperu.org/evento/campeonato-nacional-junior-lima-2024/
END:VEVENT
BEGIN:VEVENT
DTSTART;TZID=America/Lima:20241123T150000
DTEND;TZID=America/Lima:20241123T180000
DTSTAMP:20260422T054846
CREATED:20241112T025831Z
LAST-MODIFIED:20241118T130315Z
UID:5959-1732374000-1732384800@judoperu.org
SUMMARY:Copa Kyus A Lima 2024
DESCRIPTION:La Copa Kyus A se desarrollará el sábado 23 de noviembre desde las 03:00 pm en el Polideportivo 2 de la Videna.  \n\n\n\nA través de sus respectivas instituciones deportivas\, podrán inscribirse al evento en el portal web de IDENTIFICA.
URL:https://judoperu.org/evento/copa-kyus-a-lima-2024/
END:VEVENT
END:VCALENDAR