BEGIN:VCALENDAR
VERSION:2.0
PRODID:-//Judo Perú - ECPv6.15.20//NONSGML v1.0//EN
CALSCALE:GREGORIAN
METHOD:PUBLISH
X-ORIGINAL-URL:https://judoperu.org
X-WR-CALDESC:Eventos para Judo Perú
REFRESH-INTERVAL;VALUE=DURATION:PT1H
X-Robots-Tag:noindex
X-PUBLISHED-TTL:PT1H
BEGIN:VTIMEZONE
TZID:America/Lima
BEGIN:STANDARD
TZOFFSETFROM:-0500
TZOFFSETTO:-0500
TZNAME:-05
DTSTART:20230101T000000
END:STANDARD
END:VTIMEZONE
BEGIN:VEVENT
DTSTART;TZID=America/Lima:20240509T080000
DTEND;TZID=America/Lima:20240512T170000
DTSTAMP:20260420T094921
CREATED:20240501T104839Z
LAST-MODIFIED:20240505T110213Z
UID:5658-1715241600-1715533200@judoperu.org
SUMMARY:Campeonato Sudamericano Veterano Córdoba 2024
DESCRIPTION:El Campeonato Sudamericano Veterano 2024 se realizará en la ciudad de Córdoba\, Argentina\, los días 09 al 12 de mayo\, organizado por la Confederación Sudamericana de Judo y la Confederación Argentina de Judo.
URL:https://judoperu.org/evento/campeonato-sudamericano-veterano-cordoba-2024/
CATEGORIES:Campeonato Internacional
END:VEVENT
END:VCALENDAR