BEGIN:VCALENDAR
VERSION:2.0
PRODID:-//Judo Perú - ECPv6.15.20//NONSGML v1.0//EN
CALSCALE:GREGORIAN
METHOD:PUBLISH
X-ORIGINAL-URL:https://judoperu.org
X-WR-CALDESC:Eventos para Judo Perú
REFRESH-INTERVAL;VALUE=DURATION:PT1H
X-Robots-Tag:noindex
X-PUBLISHED-TTL:PT1H
BEGIN:VTIMEZONE
TZID:America/Lima
BEGIN:STANDARD
TZOFFSETFROM:-0500
TZOFFSETTO:-0500
TZNAME:-05
DTSTART:20230101T000000
END:STANDARD
END:VTIMEZONE
BEGIN:VEVENT
DTSTART;TZID=America/Lima:20240426T080000
DTEND;TZID=America/Lima:20240427T170000
DTSTAMP:20260420T064525
CREATED:20240425T204556Z
LAST-MODIFIED:20240425T204559Z
UID:5603-1714118400-1714237200@judoperu.org
SUMMARY:Campeonato Panamericano y De Oceanía Senior RIO 2024
DESCRIPTION:Los días 26 y 27 de abril se desarrollará el Campeonato Panamericano y De Oceanía Senior en la ciudad de Rio de Janeiro con la participación de seis (6) atletas nacionales: \n\n\n\n\nMarian Flores (-57kg)\n\n\n\nKiara Aranga (-57kg)\n\n\n\nJuan Postigos (-66kg)\n\n\n\nJavier Saavedra (-73kg)\n\n\n\nCamila Figueroa (-78kg)\n\n\n\nYuta Galarreta (-90kg)
URL:https://judoperu.org/evento/campeonato-panamericano-y-de-oceania-senior-rio-2024/
CATEGORIES:Campeonato Internacional
END:VEVENT
END:VCALENDAR