BEGIN:VCALENDAR
VERSION:2.0
PRODID:-//Judo Perú - ECPv6.15.20//NONSGML v1.0//EN
CALSCALE:GREGORIAN
METHOD:PUBLISH
X-ORIGINAL-URL:https://judoperu.org
X-WR-CALDESC:Eventos para Judo Perú
REFRESH-INTERVAL;VALUE=DURATION:PT1H
X-Robots-Tag:noindex
X-PUBLISHED-TTL:PT1H
BEGIN:VTIMEZONE
TZID:America/Lima
BEGIN:STANDARD
TZOFFSETFROM:-0500
TZOFFSETTO:-0500
TZNAME:-05
DTSTART:20230101T000000
END:STANDARD
END:VTIMEZONE
BEGIN:VEVENT
DTSTART;TZID=America/Lima:20240423T080000
DTEND;TZID=America/Lima:20240423T170000
DTSTAMP:20260420T065321
CREATED:20240425T203946Z
LAST-MODIFIED:20240425T203948Z
UID:5601-1713859200-1713891600@judoperu.org
SUMMARY:Campeonato Panamericano y De Oceanía Junior RIO 2024
DESCRIPTION:El día 23 de abril se desarrollará el Campeonato Panamericano y De Oceanía Junior RIO 2024 con la participación de seis (6) atletas nacionales: \n\n\n\n\nDriulys Rivas (-52kg)\n\n\n\nLuciana Julca (-57kg)\n\n\n\nHilary Lam (-63kg)\n\n\n\nFranco Baltazar (-66kg)\n\n\n\nMateo Cóndor (-66kg)\n\n\n\nValentino Valdivia (-100kg)
URL:https://judoperu.org/evento/campeonato-panamericano-y-de-oceania-junior-rio-2024/
CATEGORIES:Campeonato Internacional
END:VEVENT
END:VCALENDAR