BEGIN:VCALENDAR
VERSION:2.0
PRODID:-//Judo Perú - ECPv6.15.20//NONSGML v1.0//EN
CALSCALE:GREGORIAN
METHOD:PUBLISH
X-ORIGINAL-URL:https://judoperu.org
X-WR-CALDESC:Eventos para Judo Perú
REFRESH-INTERVAL;VALUE=DURATION:PT1H
X-Robots-Tag:noindex
X-PUBLISHED-TTL:PT1H
BEGIN:VTIMEZONE
TZID:America/Lima
BEGIN:STANDARD
TZOFFSETFROM:-0500
TZOFFSETTO:-0500
TZNAME:-05
DTSTART:20230101T000000
END:STANDARD
END:VTIMEZONE
BEGIN:VEVENT
DTSTART;TZID=America/Lima:20240422T080000
DTEND;TZID=America/Lima:20240422T170000
DTSTAMP:20260420T064608
CREATED:20240425T200738Z
LAST-MODIFIED:20240425T200827Z
UID:5597-1713772800-1713805200@judoperu.org
SUMMARY:Campeonato Panamericano y De Oceanía Cadete RIO 2024
DESCRIPTION:El 22 de abril se desarrollará el Campeonato Panamericano y De Oceanía Cadete en la ciudad de Rio de Janeiro\, Brasil\, donde participarán 4 atletas nacionales: \n\n\n\n\nAngie Estrada (-52kg)\n\n\n\nJack Uraco (-55kg)\n\n\n\nArianna Turkowsky (-63kg)\n\n\n\nBelengher Sandoval (-66kg)
URL:https://judoperu.org/evento/campeonato-panamericano-y-de-oceania-cadete-rio-2024/
END:VEVENT
END:VCALENDAR