BEGIN:VCALENDAR
VERSION:2.0
PRODID:-//Judo Perú - ECPv6.15.20//NONSGML v1.0//EN
CALSCALE:GREGORIAN
METHOD:PUBLISH
X-ORIGINAL-URL:https://judoperu.org
X-WR-CALDESC:Eventos para Judo Perú
REFRESH-INTERVAL;VALUE=DURATION:PT1H
X-Robots-Tag:noindex
X-PUBLISHED-TTL:PT1H
BEGIN:VTIMEZONE
TZID:America/Lima
BEGIN:STANDARD
TZOFFSETFROM:-0500
TZOFFSETTO:-0500
TZNAME:-05
DTSTART:20230101T000000
END:STANDARD
END:VTIMEZONE
BEGIN:VEVENT
DTSTART;TZID=America/Lima:20240412T103000
DTEND;TZID=America/Lima:20240413T130000
DTSTAMP:20260420T064525
CREATED:20240411T053049Z
LAST-MODIFIED:20240411T053053Z
UID:5555-1712917800-1713013200@judoperu.org
SUMMARY:I Juegos Bolivarianos de la Juventud Sucre 2024
DESCRIPTION:La delegación nacional que nos representará en los 𝗜 𝗝𝘂𝗲𝗴𝗼𝘀 𝗕𝗼𝗹𝗶𝘃𝗮𝗿𝗶𝗮𝗻𝗼𝘀 𝗱𝗲 𝗹𝗮 𝗝𝘂𝘃𝗲𝗻𝘁𝘂𝗱 𝗦𝘂𝗰𝗿𝗲 𝟮𝟬𝟮𝟰 está conformada por:DIA 12🥋 Katherin Ariana Diaz Ojeda (-52kg)🥋 Jack Brayan Uraco Macahuachi (-55kg)🥋 Hilary Lindsay Lam Diaz (-63kg) \n\n\n\nDIA 13🥋 Adriel Israel Machazek Lucero (-66kg) \n\n\n\n🥋 Gercy Alexander Cabrera Molleda (-100kg)🥋 Eloisa Arevalo Contreras (-78kg) \n\n\n\nENTRENADORES \n\n\n\n🧑‍💼 Luis Angeles Sotelo🧑‍💼 Kenji Castillo Chuna \n\n\n\nLa competencia se realizará los días 12 y 13 de abril siendo transmitida a través de https://www.panamsportschannel.org . Los resultados y la programación podrán verlos en línea en www.sucre2024.org .
URL:https://judoperu.org/evento/i-juegos-bolivarianos-de-la-juventud-sucre-2024/
END:VEVENT
END:VCALENDAR