BEGIN:VCALENDAR
VERSION:2.0
PRODID:-//Judo Perú - ECPv6.15.20//NONSGML v1.0//EN
CALSCALE:GREGORIAN
METHOD:PUBLISH
X-WR-CALNAME:Judo Perú
X-ORIGINAL-URL:https://judoperu.org
X-WR-CALDESC:Eventos para Judo Perú
REFRESH-INTERVAL;VALUE=DURATION:PT1H
X-Robots-Tag:noindex
X-PUBLISHED-TTL:PT1H
BEGIN:VTIMEZONE
TZID:America/Lima
BEGIN:STANDARD
TZOFFSETFROM:-0500
TZOFFSETTO:-0500
TZNAME:-05
DTSTART:20200101T000000
END:STANDARD
END:VTIMEZONE
BEGIN:VEVENT
DTSTART;TZID=America/Lima:20211126T080000
DTEND;TZID=America/Lima:20211127T170000
DTSTAMP:20260422T054846
CREATED:20210909T031253Z
LAST-MODIFIED:20210909T031254Z
UID:1855-1637913600-1638032400@judoperu.org
SUMMARY:I Juegos Panamericanos Junior Cali 2021
DESCRIPTION:¡Conoce a los 10 clasificados!  Nuestros atletas llevarán la bicolor al tatami en Cali – Colombia en la primera edición de los Juegos Panamericanos Junior que se realizará el 26 y 27 de noviembre en el Coliseo de Combate Yuri Alvear:  -52 kg Noemí Huayhuameza Orneta -57 kg Kiara Arango Miranda -63 kg Ariana Cornejo Vargas Machuca -70 kg Francis Godos Aguirre -78 kg Yumiko Tanabe Caceres +78 kg Rosita Leyton Pingo  -60 kg Arnold Prado Ramos  -66 kg Julio Cusi Huachaca -81 kg Javier Saavedra Bobadilla \n\n\n\nSobre los Juegos PanamericanosLos Juegos Panamericanos son el evento multideportivo más importante de América. Se realizan cada cuatro años desde 1957 y Cali fue sede de la VI versión de los mismos en 1971.De estas justas nacen los I Juegos Panamericanos Junior que se realizarán por primera vez en el año 2021 en Cali y el Valle del Cauca.El objetivo de este sueño es impulsar a las nuevas generaciones de deportistas\, así como visibilizar nuevos talentos y apoyar el desarrollo del deporte en las categorías junior a través de su participación en eventos de alto alcance.
URL:https://judoperu.org/evento/i-juegos-panamericanos-junior-cali-2021/
CATEGORIES:Campeonato Internacional
END:VEVENT
END:VCALENDAR