BEGIN:VCALENDAR
VERSION:2.0
PRODID:-//Judo Perú - ECPv6.15.20//NONSGML v1.0//EN
CALSCALE:GREGORIAN
METHOD:PUBLISH
X-ORIGINAL-URL:https://judoperu.org
X-WR-CALDESC:Eventos para Judo Perú
REFRESH-INTERVAL;VALUE=DURATION:PT1H
X-Robots-Tag:noindex
X-PUBLISHED-TTL:PT1H
BEGIN:VTIMEZONE
TZID:America/Lima
BEGIN:STANDARD
TZOFFSETFROM:-0500
TZOFFSETTO:-0500
TZNAME:-05
DTSTART:20200101T000000
END:STANDARD
END:VTIMEZONE
BEGIN:VEVENT
DTSTART;TZID=America/Lima:20210914T070000
DTEND;TZID=America/Lima:20211125T170000
DTSTAMP:20260420T094914
CREATED:20210909T233444Z
LAST-MODIFIED:20210917T175416Z
UID:1899-1631602800-1637859600@judoperu.org
SUMMARY:Programa Tecnificación Virtual - Rumbo a los Juegos Suramericanos de la Juventud 2022
DESCRIPTION:¡Rumbo a los Juegos Suramericanos de la Juventud Rosario 2022 🇦🇷! \n\n\n\nPrograma dirigido a atletas peruanos de cinturón verde en adelante nacidos entre el 1 de enero de 2005 y el 31 de diciembre de 2007. \n\n\n\nLas sesiones se realizarán los martes y jueves de 18:00 a 19:30 horas por zoom. Participación previa inscripción en shorturl.at/clrsI 🥋 \n\n\n\n⚠️ La participación en este programa es requisito indispensable para ser parte de la lista larga para el evento suramericano. \n\n\n\n🗓 Inicio: 14 de setiembre
URL:https://judoperu.org/evento/programa-tecnificacion-virtual-rumbo-a-los-juegos-suramericanos-de-la-juventud-2022/
CATEGORIES:Entrenamiento
END:VEVENT
BEGIN:VEVENT
DTSTART;TZID=America/Lima:20210920T070000
DTEND;TZID=America/Lima:20211126T170000
DTSTAMP:20260420T094914
CREATED:20210917T222946Z
LAST-MODIFIED:20210917T222947Z
UID:1923-1632121200-1637946000@judoperu.org
SUMMARY:Ippon en Casa 2021 – 15 a más años
DESCRIPTION:¡Seguimos conectados en Judo Perú! \n\n\n\nSi eres principiante y quieres practicar judo\, inscríbete a las clases virtuales de 15 a más años: shorturl.at/qyR15 \n\n\n\nSesiones LUNES – MIERCOLES – VIERNESHorario: 18:00 – 18:45 horasInicio: 20 de setiembre de 2021Fin: 26 de noviembre de 2021 \n\n\n\nCosto: En este programa\, dada la coyuntura COVID19\, no se realizará pago\, las vacantes son muy limitadas. \n\n\n\nRecomendaciones:– Usar ropa deportiva / ropa cómoda.– Contar con botella de agua ¡La hidratación es importante!– Tener encendida la cámara durante las sesiones.– Contar con la presencia de una persona responsable del menor durante la sesión.
URL:https://judoperu.org/evento/ippon-en-casa-2021-15-a-mas-anos/
END:VEVENT
BEGIN:VEVENT
DTSTART;TZID=America/Lima:20210920T150000
DTEND;TZID=America/Lima:20211126T164500
DTSTAMP:20260420T094914
CREATED:20210917T222513Z
LAST-MODIFIED:20210917T222515Z
UID:1919-1632150000-1637945100@judoperu.org
SUMMARY:Ippon en Casa 2021 – 4 a 8 años
DESCRIPTION:¡Seguimos conectados en Judo Perú! \n\n\n\nSi eres principiante y quieres practicar judo\, inscríbete a las clases virtuales de 4 a 8 años: shorturl.at/lIOU2 \n\n\n\nSesiones LUNES – MIERCOLES – VIERNESHorario: 16:00 – 16:45 horasInicio: 20 de setiembre de 2021Fin: 26 de noviembre de 2021 \n\n\n\nCosto: En este programa\, dada la coyuntura COVID19\, no se realizará pago\, las vacantes son muy limitadas. \n\n\n\nRecomendaciones:– Usar ropa deportiva / ropa cómoda.– Contar con botella de agua ¡La hidratación es importante!– Tener encendida la cámara durante las sesiones.– Contar con la presencia de una persona responsable del menor durante la sesión.
URL:https://judoperu.org/evento/ippon-en-casa-2021-4-a-8-anos/
END:VEVENT
BEGIN:VEVENT
DTSTART;TZID=America/Lima:20210920T160000
DTEND;TZID=America/Lima:20211126T174500
DTSTAMP:20260420T094914
CREATED:20210917T222734Z
LAST-MODIFIED:20210917T222736Z
UID:1921-1632153600-1637948700@judoperu.org
SUMMARY:Ippon en Casa 2021 – 9 a 14 años
DESCRIPTION:¡Seguimos conectados en Judo Perú! \n\n\n\nSi eres principiante y quieres practicar judo\, inscríbete a las clases virtuales de 9 a 14 años: shorturl.at/pBQW6 \n\n\n\nSesiones LUNES – MIERCOLES – VIERNESHorario: 17:00 – 17:45 horasInicio: 20 de setiembre de 2021Fin: 26 de noviembre de 2021 \n\n\n\nCosto: En este programa\, dada la coyuntura COVID19\, no se realizará pago\, las vacantes son muy limitadas. \n\n\n\nRecomendaciones:– Usar ropa deportiva / ropa cómoda.– Contar con botella de agua ¡La hidratación es importante!– Tener encendida la cámara durante las sesiones.– Contar con la presencia de una persona responsable del menor durante la sesión.
URL:https://judoperu.org/evento/ippon-en-casa-2021-9-a-14-anos/
END:VEVENT
END:VCALENDAR