BEGIN:VCALENDAR
VERSION:2.0
PRODID:-//Judo Perú - ECPv6.15.20//NONSGML v1.0//EN
CALSCALE:GREGORIAN
METHOD:PUBLISH
X-WR-CALNAME:Judo Perú
X-ORIGINAL-URL:https://judoperu.org
X-WR-CALDESC:Eventos para Judo Perú
REFRESH-INTERVAL;VALUE=DURATION:PT1H
X-Robots-Tag:noindex
X-PUBLISHED-TTL:PT1H
BEGIN:VTIMEZONE
TZID:America/Lima
BEGIN:STANDARD
TZOFFSETFROM:-0500
TZOFFSETTO:-0500
TZNAME:-05
DTSTART:20190101T000000
END:STANDARD
END:VTIMEZONE
BEGIN:VEVENT
DTSTART;TZID=America/Lima:20201117T030000
DTEND;TZID=America/Lima:20201118T120000
DTSTAMP:20260422T121545
CREATED:20201028T080733Z
LAST-MODIFIED:20201028T081013Z
UID:1312-1605582000-1605700800@judoperu.org
SUMMARY:Campeonato Panamericano Cadete & Junior Guadalajara 2020
DESCRIPTION:
URL:https://judoperu.org/evento/campeonato-panamericano-cadete-junior-guadalajara-2020/
CATEGORIES:Campeonato Internacional
END:VEVENT
BEGIN:VEVENT
DTSTART;TZID=America/Lima:20201117T110000
DTEND;TZID=America/Lima:20201117T120000
DTSTAMP:20260422T121545
CREATED:20201103T041706Z
LAST-MODIFIED:20201103T041707Z
UID:1475-1605610800-1605614400@judoperu.org
SUMMARY:Tecnificación Virtual
DESCRIPTION:¡Acompáñanos en nuestra sesión de Tecnificación Virtual a las 16:00 horas (PER)! Sesión dirigida a toda la comunidad judoka. Completa el formulario para recibir el enlace de la sesión por ZOOM.
URL:https://judoperu.org/evento/tecnificacion-virtual-22/
CATEGORIES:En vivo,Entrenamiento
END:VEVENT
END:VCALENDAR