BEGIN:VCALENDAR
VERSION:2.0
PRODID:-//Judo Perú - ECPv6.15.20//NONSGML v1.0//EN
CALSCALE:GREGORIAN
METHOD:PUBLISH
X-ORIGINAL-URL:https://judoperu.org
X-WR-CALDESC:Eventos para Judo Perú
REFRESH-INTERVAL;VALUE=DURATION:PT1H
X-Robots-Tag:noindex
X-PUBLISHED-TTL:PT1H
BEGIN:VTIMEZONE
TZID:America/Lima
BEGIN:STANDARD
TZOFFSETFROM:-0500
TZOFFSETTO:-0500
TZNAME:-05
DTSTART:20190101T000000
END:STANDARD
END:VTIMEZONE
BEGIN:VEVENT
DTSTART;TZID=America/Lima:20201027T190000
DTEND;TZID=America/Lima:20201028T185900
DTSTAMP:20260423T004733
CREATED:20201028T082428Z
LAST-MODIFIED:20201028T082428Z
UID:1326-1603825200-1603911540@judoperu.org
SUMMARY:Día Mundial del Judo
DESCRIPTION:Celebremos juntos este día porque juntos somos más fuertes.
URL:https://judoperu.org/evento/dia-mundial-del-judo/
CATEGORIES:Estreno
END:VEVENT
BEGIN:VEVENT
DTSTART;TZID=America/Lima:20201028T120000
DTEND;TZID=America/Lima:20201028T130000
DTSTAMP:20260423T004733
CREATED:20201024T035151Z
LAST-MODIFIED:20201024T035152Z
UID:1099-1603886400-1603890000@judoperu.org
SUMMARY:[ CPJ ] Referee Roundtable Meeting
DESCRIPTION:¡No te pierdas esta mesa redonda de arbitraje sobre SCORE VS NO SCORE organizada por la Confederación Panamericana de Judo (CPJ) este miércoles 28 de Octubre a las 5:00 pm hora PER! \n\n\n\nPanelistas:Ovidio Garnero – Director de Arbitraje de la CPJEdison Minakawa – Comisionado de ArbitrajeJulio Clemente – Comisionado de ArbitrajePaulina Gonzalez MEX – Árbitro IJF ARoberto Aleman ESA – Árbitro IJF ACarlos Schulz ARG – Árbitro IJF B
URL:https://judoperu.org/evento/cpj-referee-roundtable-meeting-2/
CATEGORIES:En vivo
END:VEVENT
BEGIN:VEVENT
DTSTART;TZID=America/Lima:20201028T143000
DTEND;TZID=America/Lima:20201028T150000
DTSTAMP:20260423T004733
CREATED:20201024T011552Z
LAST-MODIFIED:20201024T013104Z
UID:1070-1603895400-1603897200@judoperu.org
SUMMARY:Judo en Evolution 360
DESCRIPTION:
URL:https://judoperu.org/evento/judo-en-evolution-360-4/
CATEGORIES:En vivo
END:VEVENT
END:VCALENDAR